Workbook

Sheet Прайс и заказ
A1: · Прайс-лист «Кашпо, вазоны — Вазоны» · 01.10.2026
A2: Компания | D2: Комментарий | G2: Поиск по прайсу | J2: Заполните колонку «Заказать» — выбранные позиции сами соберутся на листе «Ваш заказ». LavrPack · +7 (8482) 63-53-54 · 8 (800) 444-26-45 · www.lavrpack.ru
A3: Контактное лицо | D3: Дата прайса | E3: 01.10.2026 19:59
A4: Телефон | D4: Категория | E4: Кашпо, вазоны — Вазоны
A5: Город | D5: Источник | E5: https://www.lavrpack.ru | G5: =IF($G$3="","",SUMPRODUCT(--ISNUMBER(SEARCH($G$3,$B$7:$B$54&" "&$C$7:$C$54&" "&$D$7:$D$54&" "&$E$7:$E$54)))&" найдено — совпадения подсвечены")
A6: Фото | B6: Артикул | C6: Товар | D6: Цвет / вариант | E6: Размер / характеристика | F6: Ед. | G6: В коробке | I6: Опт, с НДС | J6: В наличии | K6: Заказать | L6: Сумма | M6: Комментарий | N6: служебная | P6: UUID | Q6: ИД_1С | R6: К1С
A7: Вазоны — 47 поз. | N7: =IF(K7>0,COUNTIF($K$7:K7,">0"),"")
B8: 115392 | C8: Акриловая ваза для цветов , D15*H25см (серый/832) | G8: 1 | I8: 436 | J8: 19 | L8: =IF(K8>0,K8*I8,"") | N8: =IF(K8>0,COUNTIF($K$7:K8,">0"),"") | P8: 38e7d8a3-a8f9-11f0-ab48-22344d083d2c#75fc7bb2-84cb-11f1-ab51-22344d083d2c | Q8: 38e7d8a3-a8f9-11f0-ab48-22344d083d2c#75fc7bb2-84cb-11f1-ab51-22344d083d2c
B9: 115392 | C9: Акриловая ваза для цветов , D15*H35см (прозрачный/836) | G9: 1 | I9: 626 | J9: 232 | L9: =IF(K9>0,K9*I9,"") | N9: =IF(K9>0,COUNTIF($K$7:K9,">0"),"") | P9: 38e7d8a3-a8f9-11f0-ab48-22344d083d2c#8929b39e-84cb-11f1-ab51-22344d083d2c | Q9: 38e7d8a3-a8f9-11f0-ab48-22344d083d2c#8929b39e-84cb-11f1-ab51-22344d083d2c
B10: 115392 | C10: Акриловая ваза для цветов , D15*H35см (серый/836) | G10: 1 | I10: 563 | J10: 103 | L10: =IF(K10>0,K10*I10,"") | N10: =IF(K10>0,COUNTIF($K$7:K10,">0"),"") | P10: 38e7d8a3-a8f9-11f0-ab48-22344d083d2c#9d122479-84cb-11f1-ab51-22344d083d2c | Q10: 38e7d8a3-a8f9-11f0-ab48-22344d083d2c#9d122479-84cb-11f1-ab51-22344d083d2c
B11: 115392 | C11: Акриловая ваза для цветов , D15*H40см (прозрачный/834) | G11: 1 | I11: 775 | J11: 232 | L11: =IF(K11>0,K11*I11,"") | N11: =IF(K11>0,COUNTIF($K$7:K11,">0"),"") | P11: 38e7d8a3-a8f9-11f0-ab48-22344d083d2c#b2ddae49-84cb-11f1-ab51-22344d083d2c | Q11: 38e7d8a3-a8f9-11f0-ab48-22344d083d2c#b2ddae49-84cb-11f1-ab51-22344d083d2c
B12: 115392 | C12: Акриловая ваза для цветов , D15*H40см (серый/834) | G12: 1 | I12: 634 | J12: 109 | L12: =IF(K12>0,K12*I12,"") | N12: =IF(K12>0,COUNTIF($K$7:K12,">0"),"") | P12: 38e7d8a3-a8f9-11f0-ab48-22344d083d2c#bfeae8b2-84cb-11f1-ab51-22344d083d2c | Q12: 38e7d8a3-a8f9-11f0-ab48-22344d083d2c#bfeae8b2-84cb-11f1-ab51-22344d083d2c
B13: 115392 | C13: Акриловая ваза для цветов , D15*H50см (прозрачный) | G13: 1 | I13: 1416 | J13: 134 | L13: =IF(K13>0,K13*I13,"") | N13: =IF(K13>0,COUNTIF($K$7:K13,">0"),"") | P13: 38e7d8a3-a8f9-11f0-ab48-22344d083d2c#4bb318da-a53a-11f1-ab51-22344d083d2c | Q13: 38e7d8a3-a8f9-11f0-ab48-22344d083d2c#4bb318da-a53a-11f1-ab51-22344d083d2c
B14: 115392 | C14: Акриловая ваза для цветов , D15*H60см (прозрачный) | G14: 1 | I14: 1972 | J14: 144 | L14: =IF(K14>0,K14*I14,"") | N14: =IF(K14>0,COUNTIF($K$7:K14,">0"),"") | P14: 38e7d8a3-a8f9-11f0-ab48-22344d083d2c#5ab23471-a53a-11f1-ab51-22344d083d2c | Q14: 38e7d8a3-a8f9-11f0-ab48-22344d083d2c#5ab23471-a53a-11f1-ab51-22344d083d2c
B15: 115392 | C15: Акриловая ваза для цветов , D20*H30см | G15: 1 | I15: 989 | J15: 77 | L15: =IF(K15>0,K15*I15,"") | N15: =IF(K15>0,COUNTIF($K$7:K15,">0"),"") | P15: 38e7d8a3-a8f9-11f0-ab48-22344d083d2c#9faa7cba-a8f9-11f0-ab48-22344d083d2c | Q15: 38e7d8a3-a8f9-11f0-ab48-22344d083d2c#9faa7cba-a8f9-11f0-ab48-22344d083d2c
B16: 115392 | C16: Акриловая ваза для цветов , D20*H40см (прозрачный/865) | G16: 1 | I16: 1353 | J16: 259 | L16: =IF(K16>0,K16*I16,"") | N16: =IF(K16>0,COUNTIF($K$7:K16,">0"),"") | P16: 38e7d8a3-a8f9-11f0-ab48-22344d083d2c#da92bba6-84cb-11f1-ab51-22344d083d2c | Q16: 38e7d8a3-a8f9-11f0-ab48-22344d083d2c#da92bba6-84cb-11f1-ab51-22344d083d2c
B17: 115392 | C17: Акриловая ваза для цветов , D20*H40см (серый/865) | G17: 1 | I17: 1014 | J17: 90 | L17: =IF(K17>0,K17*I17,"") | N17: =IF(K17>0,COUNTIF($K$7:K17,">0"),"") | P17: 38e7d8a3-a8f9-11f0-ab48-22344d083d2c#ecfaf5fb-84cb-11f1-ab51-22344d083d2c | Q17: 38e7d8a3-a8f9-11f0-ab48-22344d083d2c#ecfaf5fb-84cb-11f1-ab51-22344d083d2c
B18: 68307 | C18: Ваза | D18: Россия | E18: "Флавия" H42×D19.7см., 5л. черный | G18: 1 | I18: 265 | J18: 1 | L18: =IF(K18>0,K18*I18,"") | N18: =IF(K18>0,COUNTIF($K$7:K18,">0"),"") | O18: https://www.lavrpack.ru/local/templates/phoenix_v1/images_cache/thumbs/32532841351e5dae8a633595572f1308.webp?v=1790865319 | P18: 496c19e7-7f2d-11ec-b73f-0018e40a3af2 | Q18: 496c19e7-7f2d-11ec-b73f-0018e40a3af2
B19: 68309 | C19: Ваза | D19: Россия | E19: "Флавия" H52×D27см., 12л. белый | G19: 1 | I19: 502 | J19: 77 | L19: =IF(K19>0,K19*I19,"") | N19: =IF(K19>0,COUNTIF($K$7:K19,">0"),"") | O19: https://www.lavrpack.ru/local/templates/phoenix_v1/images_cache/thumbs/5d7fcbbb7c8cd4d62b12c76c3638080b.webp?v=1790788476 | P19: 49aedceb-7f2c-11ec-b73f-0018e40a3af2 | Q19: 49aedceb-7f2c-11ec-b73f-0018e40a3af2
B20: 68325 | C20: Ваза | D20: Россия | E20: "Флавия" H52×D27см., 12л. черный | G20: 1 | I20: 502 | J20: 63 | L20: =IF(K20>0,K20*I20,"") | N20: =IF(K20>0,COUNTIF($K$7:K20,">0"),"") | O20: https://www.lavrpack.ru/local/templates/phoenix_v1/images_cache/thumbs/6c33ba9f48b4a0d84b286b275eaf87f8.webp?v=1790788476 | P20: 5b734929-7f2d-11ec-b73f-0018e40a3af2 | Q20: 5b734929-7f2d-11ec-b73f-0018e40a3af2
B21: 115396 | C21: Ваза для цветов (квадратная), H23*13/D11см | G21: 1 | I21: 366 | J21: 1 | L21: =IF(K21>0,K21*I21,"") | N21: =IF(K21>0,COUNTIF($K$7:K21,">0"),"") | O21: https://www.lavrpack.ru/local/templates/phoenix_v1/images_cache/thumbs/3f4fa6edcc3fede140e9891593be00d3.webp?v=1790788476 | P21: 57d661ef-a8fd-11f0-ab48-22344d083d2c#7734e7fc-a992-11f0-ab48-22344d083d2c | Q21: 57d661ef-a8fd-11f0-ab48-22344d083d2c#7734e7fc-a992-11f0-ab48-22344d083d2c
B22: 115396 | C22: Ваза для цветов (квадратная), H29*15/D12см (822) | G22: 1 | I22: 548 | J22: 225 | L22: =IF(K22>0,K22*I22,"") | N22: =IF(K22>0,COUNTIF($K$7:K22,">0"),"") | O22: https://www.lavrpack.ru/local/templates/phoenix_v1/images_cache/thumbs/5252e256e8749255aad7d93296284a94.webp?v=1790788476 | P22: 57d661ef-a8fd-11f0-ab48-22344d083d2c#726ae1e8-a8fd-11f0-ab48-22344d083d2c | Q22: 57d661ef-a8fd-11f0-ab48-22344d083d2c#726ae1e8-a8fd-11f0-ab48-22344d083d2c
B23: 115396 | C23: Ваза для цветов (квадратная), H37*18,5/D13 | D23: (823) | E23: 5см | G23: 1 | I23: 754 | J23: 275 | L23: =IF(K23>0,K23*I23,"") | N23: =IF(K23>0,COUNTIF($K$7:K23,">0"),"") | P23: 57d661ef-a8fd-11f0-ab48-22344d083d2c#ea123d8a-84cc-11f1-ab51-22344d083d2c | Q23: 57d661ef-a8fd-11f0-ab48-22344d083d2c#ea123d8a-84cc-11f1-ab51-22344d083d2c
B24: 115393 | C24: Ваза для цветов акриловая (круглая), H24,5*D16/D11 | D24: (824) | E24: 5см | G24: 1 | I24: 369 | J24: 116 | L24: =IF(K24>0,K24*I24,"") | N24: =IF(K24>0,COUNTIF($K$7:K24,">0"),"") | P24: 1fe55b87-a8fa-11f0-ab48-22344d083d2c#67dd007e-a8fa-11f0-ab48-22344d083d2c | Q24: 1fe55b87-a8fa-11f0-ab48-22344d083d2c#67dd007e-a8fa-11f0-ab48-22344d083d2c
B25: 115393 | C25: Ваза для цветов акриловая (круглая), H30,5*D18/D13см (825) | G25: 1 | I25: 541 | J25: 156 | L25: =IF(K25>0,K25*I25,"") | N25: =IF(K25>0,COUNTIF($K$7:K25,">0"),"") | O25: https://www.lavrpack.ru/local/templates/phoenix_v1/images_cache/thumbs/617a072382468c20617ac3d727bd7fec.webp?v=1790788476 | P25: 1fe55b87-a8fa-11f0-ab48-22344d083d2c#8e99aa0d-a8fa-11f0-ab48-22344d083d2c | Q25: 1fe55b87-a8fa-11f0-ab48-22344d083d2c#8e99aa0d-a8fa-11f0-ab48-22344d083d2c
B26: 115393 | C26: Ваза для цветов акриловая (круглая), H38*D21/D16см (826) | G26: 1 | I26: 745 | J26: 86 | L26: =IF(K26>0,K26*I26,"") | N26: =IF(K26>0,COUNTIF($K$7:K26,">0"),"") | O26: https://www.lavrpack.ru/local/templates/phoenix_v1/images_cache/thumbs/87271dda181dc23330afdf453761c28c.webp?v=1790788476 | P26: 1fe55b87-a8fa-11f0-ab48-22344d083d2c#80edb350-a8fa-11f0-ab48-22344d083d2c | Q26: 1fe55b87-a8fa-11f0-ab48-22344d083d2c#80edb350-a8fa-11f0-ab48-22344d083d2c
B27: 104334 | C27: Ваза пластиковая | D27: (цилиндр), 883 | E27: 14см×30см | G27: 1 | I27: 434 | J27: 17 | L27: =IF(K27>0,K27*I27,"") | N27: =IF(K27>0,COUNTIF($K$7:K27,">0"),"") | O27: https://www.lavrpack.ru/local/templates/phoenix_v1/images_cache/thumbs/630fd3eb00397857c50ef3aee1d06d83.webp?v=1790839573 | P27: 35826152-643d-11ee-bc2f-00e01a6800eb | Q27: 35826152-643d-11ee-bc2f-00e01a6800eb
B28: 104294 | C28: Ваза пластиковая | D28: (квадрат), ХНТ-3 | E28: 16см×27,5см | G28: 1 | I28: 172 | J28: 136 | L28: =IF(K28>0,K28*I28,"") | N28: =IF(K28>0,COUNTIF($K$7:K28,">0"),"") | O28: https://www.lavrpack.ru/local/templates/phoenix_v1/images_cache/thumbs/94265832151fa75145d370a674d25f87.webp?v=1790832077 | P28: 44d7930e-6410-11ee-bc2f-00e01a6800eb | Q28: 44d7930e-6410-11ee-bc2f-00e01a6800eb
B29: 104335 | C29: Ваза пластиковая | D29: (цилиндр), 884 | E29: 16см×40см | G29: 1 | I29: 779 | J29: 82 | L29: =IF(K29>0,K29*I29,"") | N29: =IF(K29>0,COUNTIF($K$7:K29,">0"),"") | O29: https://www.lavrpack.ru/local/templates/phoenix_v1/images_cache/thumbs/90eeec87c11967a2f8ba2c0842a0ca81.webp?v=1790788476 | P29: a7b621fe-643d-11ee-bc2f-00e01a6800eb | Q29: a7b621fe-643d-11ee-bc2f-00e01a6800eb
B30: 104337 | C30: Ваза пластиковая | D30: (квадрат), ХНТ-4 | E30: 17.5см×34.5см | G30: 1 | I30: 304 | J30: 397 | L30: =IF(K30>0,K30*I30,"") | N30: =IF(K30>0,COUNTIF($K$7:K30,">0"),"") | O30: https://www.lavrpack.ru/local/templates/phoenix_v1/images_cache/thumbs/13b8a435d0c8afed03358b3517fe393f.webp?v=1790832077 | P30: 911364d1-6440-11ee-bc2f-00e01a6800eb | Q30: 911364d1-6440-11ee-bc2f-00e01a6800eb
B31: 104336 | C31: Ваза пластиковая | D31: (цилиндр), 885 | E31: 18см×50см | G31: 1 | I31: 1159 | J31: 330 | L31: =IF(K31>0,K31*I31,"") | N31: =IF(K31>0,COUNTIF($K$7:K31,">0"),"") | O31: https://www.lavrpack.ru/local/templates/phoenix_v1/images_cache/thumbs/bcaa45526fd97581d42f6d0d73aa7cb4.webp?v=1790788476 | P31: 01cb34cd-643e-11ee-bc2f-00e01a6800eb | Q31: 01cb34cd-643e-11ee-bc2f-00e01a6800eb
B32: 104338 | C32: Ваза пластиковая | D32: (квадрат), ХНТ-5 | E32: 20см×44см | G32: 1 | I32: 376 | J32: 347 | L32: =IF(K32>0,K32*I32,"") | N32: =IF(K32>0,COUNTIF($K$7:K32,">0"),"") | O32: https://www.lavrpack.ru/local/templates/phoenix_v1/images_cache/thumbs/023709b20c65f104d30953eb1a759bea.webp?v=1790832077 | P32: f1492208-6440-11ee-bc2f-00e01a6800eb | Q32: f1492208-6440-11ee-bc2f-00e01a6800eb
B33: 107407 | C33: Вазон металлический "Ведро" D13*9,5*H12см (STG113), Белый | G33: 1 | I33: 128 | J33: 56 | L33: =IF(K33>0,K33*I33,"") | N33: =IF(K33>0,COUNTIF($K$7:K33,">0"),"") | O33: https://www.lavrpack.ru/local/templates/phoenix_v1/images_cache/thumbs/20b6cb5ddccf1d5533a33cdfb8c4d565.webp?v=1790828461 | P33: 3eb52b13-03af-11ef-9f05-00e01a6800eb#44c06997-03af-11ef-9f05-00e01a6800eb | Q33: 3eb52b13-03af-11ef-9f05-00e01a6800eb#44c06997-03af-11ef-9f05-00e01a6800eb
B34: 107407 | C34: Вазон металлический "Ведро" D13*9,5*H12см (STG113), Голубой | G34: 1 | I34: 128 | J34: 35 | L34: =IF(K34>0,K34*I34,"") | N34: =IF(K34>0,COUNTIF($K$7:K34,">0"),"") | O34: https://www.lavrpack.ru/local/templates/phoenix_v1/images_cache/thumbs/7a0c214534d8e77a70957791497f6d09.webp?v=1790828461 | P34: 3eb52b13-03af-11ef-9f05-00e01a6800eb#5d98c660-03af-11ef-9f05-00e01a6800eb | Q34: 3eb52b13-03af-11ef-9f05-00e01a6800eb#5d98c660-03af-11ef-9f05-00e01a6800eb
B35: 107407 | C35: Вазон металлический "Ведро" D13*9,5*H12см (STG113), Желтый | G35: 1 | I35: 128 | J35: 70 | L35: =IF(K35>0,K35*I35,"") | N35: =IF(K35>0,COUNTIF($K$7:K35,">0"),"") | O35: https://www.lavrpack.ru/local/templates/phoenix_v1/images_cache/thumbs/b3aa80fc71ea813029a98f49f755ea6f.webp?v=1790828461 | P35: 3eb52b13-03af-11ef-9f05-00e01a6800eb#561c92a4-03af-11ef-9f05-00e01a6800eb | Q35: 3eb52b13-03af-11ef-9f05-00e01a6800eb#561c92a4-03af-11ef-9f05-00e01a6800eb
B36: 107407 | C36: Вазон металлический "Ведро" D13*9,5*H12см (STG113), Розовый | G36: 1 | I36: 128 | J36: 124 | L36: =IF(K36>0,K36*I36,"") | N36: =IF(K36>0,COUNTIF($K$7:K36,">0"),"") | O36: https://www.lavrpack.ru/local/templates/phoenix_v1/images_cache/thumbs/a4935c8594c6916bdb0dab3bcd1a3c60.webp?v=1790828461 | P36: 3eb52b13-03af-11ef-9f05-00e01a6800eb#4f6d153f-03af-11ef-9f05-00e01a6800eb | Q36: 3eb52b13-03af-11ef-9f05-00e01a6800eb#4f6d153f-03af-11ef-9f05-00e01a6800eb
B37: 107411 | C37: Вазон металлический "Цветочный горшок" D10*7,5*H10см, Белый (STH23391) | G37: 1 | I37: 275 | J37: 1818 | L37: =IF(K37>0,K37*I37,"") | N37: =IF(K37>0,COUNTIF($K$7:K37,">0"),"") | O37: https://www.lavrpack.ru/local/templates/phoenix_v1/images_cache/thumbs/37ed59ca9eb7a762762e1e7d90319976.webp?v=1790828461 | P37: 1a87b336-03b5-11ef-9f05-00e01a6800eb#348bfd75-03b5-11ef-9f05-00e01a6800eb | Q37: 1a87b336-03b5-11ef-9f05-00e01a6800eb#348bfd75-03b5-11ef-9f05-00e01a6800eb
B38: 107411 | C38: Вазон металлический "Цветочный горшок" D10*7,5*H10см, Зеленый (STH23393) | G38: 1 | I38: 275 | J38: 1845 | L38: =IF(K38>0,K38*I38,"") | N38: =IF(K38>0,COUNTIF($K$7:K38,">0"),"") | O38: https://www.lavrpack.ru/local/templates/phoenix_v1/images_cache/thumbs/46be3eddb1852eccc399aa33781afdda.webp?v=1790788476 | P38: 1a87b336-03b5-11ef-9f05-00e01a6800eb#254045e2-03b5-11ef-9f05-00e01a6800eb | Q38: 1a87b336-03b5-11ef-9f05-00e01a6800eb#254045e2-03b5-11ef-9f05-00e01a6800eb
B39: 107411 | C39: Вазон металлический "Цветочный горшок" D10*7,5*H10см, Фуксия (STH23392) | G39: 1 | I39: 275 | J39: 1910 | L39: =IF(K39>0,K39*I39,"") | N39: =IF(K39>0,COUNTIF($K$7:K39,">0"),"") | O39: https://www.lavrpack.ru/local/templates/phoenix_v1/images_cache/thumbs/eaa6e0e1dab2aeae3a6fb63154ea56f8.webp?v=1790828461 | P39: 1a87b336-03b5-11ef-9f05-00e01a6800eb#469389a8-03b5-11ef-9f05-00e01a6800eb | Q39: 1a87b336-03b5-11ef-9f05-00e01a6800eb#469389a8-03b5-11ef-9f05-00e01a6800eb
B40: 107410 | C40: Вазон металлический "Garden" (STG627-Y), D15*10*H25см | G40: 1 | I40: 270 | J40: 1249 | L40: =IF(K40>0,K40*I40,"") | N40: =IF(K40>0,COUNTIF($K$7:K40,">0"),"") | O40: https://www.lavrpack.ru/local/templates/phoenix_v1/images_cache/thumbs/1780d93b2719c2ae49bda3cf5d79d3bc.webp?v=1790828461 | P40: a5633da7-03b3-11ef-9f05-00e01a6800eb#b789bbaa-03b3-11ef-9f05-00e01a6800eb | Q40: a5633da7-03b3-11ef-9f05-00e01a6800eb#b789bbaa-03b3-11ef-9f05-00e01a6800eb
...

Sheet Ваш заказ
A1: · Ваш заказ
A2: Здесь автоматически отображаются только позиции, в которых на листе «Прайс и заказ» указано количество. Лист обновляется сам — ничего копировать не нужно.
A3: Компания | B3: =IF('Прайс и заказ'!B2="","",'Прайс и заказ'!B2) | C3: Телефон | D3: =IF('Прайс и заказ'!B4="","",'Прайс и заказ'!B4) | E3: Город | F3: =IF('Прайс и заказ'!B5="","",'Прайс и заказ'!B5)
A4: Контактное лицо | B4: =IF('Прайс и заказ'!B3="","",'Прайс и заказ'!B3) | C4: Комментарий | D4: =IF('Прайс и заказ'!E2="","",'Прайс и заказ'!E2)
A5: Дата прайса | B5: =IF('Прайс и заказ'!E3="","",'Прайс и заказ'!E3) | C5: Категория | D5: =IF('Прайс и заказ'!E4="","",'Прайс и заказ'!E4)
A6: Итого позиций | C6: ='Прайс и заказ'!K56 | D6: Общее количество | F6: ='Прайс и заказ'!K57 | G6: Сумма заказа | I6: ='Прайс и заказ'!K58
A8: Фото | B8: Артикул | C8: Товар | D8: Цвет / вариант | E8: Ед. | F8: Цена опт, с НДС | G8: Заказать | H8: Сумма | I8: Комментарий | J8: служебная | L8: ИД_1С
A9: =IF($J9=0,"",IFERROR(_xlfn.IMAGE(INDEX('Прайс и заказ'!$O:$O,$J9)),"")) | B9: =IF($J9=0,"",IF(INDEX('Прайс и заказ'!B:B,$J9)="","",INDEX('Прайс и заказ'!B:B,$J9))) | C9: =IF($J9=0,"",IF(INDEX('Прайс и заказ'!C:C,$J9)="","",INDEX('Прайс и заказ'!C:C,$J9))) | D9: =IF($J9=0,"",IF(INDEX('Прайс и заказ'!D:D,$J9)="","",INDEX('Прайс и заказ'!D:D,$J9))) | E9: =IF($J9=0,"",IF(INDEX('Прайс и заказ'!F:F,$J9)="","",INDEX('Прайс и заказ'!F:F,$J9))) | F9: =IF($J9=0,"",IF(INDEX('Прайс и заказ'!I:I,$J9)="","",INDEX('Прайс и заказ'!I:I,$J9))) | G9: =IF($J9=0,"",IF(INDEX('Прайс и заказ'!K:K,$J9)="","",INDEX('Прайс и заказ'!K:K,$J9))) | H9: =IF($J9=0,"",IF(INDEX('Прайс и заказ'!L:L,$J9)="","",INDEX('Прайс и заказ'!L:L,$J9))) | I9: =IF($J9=0,"",IF(INDEX('Прайс и заказ'!M:M,$J9)="","",INDEX('Прайс и заказ'!M:M,$J9))) | J9: =IFERROR(MATCH(1,'Прайс и заказ'!$N$7:$N$54,0)+6,0) | K9: =IF($J9=0,"← Пока ничего не выбрано — заполните колонку «Заказать» на листе «Прайс и заказ»","") | L9: =IF($J9=0,"",IF(INDEX('Прайс и заказ'!Q:Q,$J9)="","",INDEX('Прайс и заказ'!Q:Q,$J9)))
A10: =IF($J10=0,"",IFERROR(_xlfn.IMAGE(INDEX('Прайс и заказ'!$O:$O,$J10)),"")) | B10: =IF($J10=0,"",IF(INDEX('Прайс и заказ'!B:B,$J10)="","",INDEX('Прайс и заказ'!B:B,$J10))) | C10: =IF($J10=0,"",IF(INDEX('Прайс и заказ'!C:C,$J10)="","",INDEX('Прайс и заказ'!C:C,$J10))) | D10: =IF($J10=0,"",IF(INDEX('Прайс и заказ'!D:D,$J10)="","",INDEX('Прайс и заказ'!D:D,$J10))) | E10: =IF($J10=0,"",IF(INDEX('Прайс и заказ'!F:F,$J10)="","",INDEX('Прайс и заказ'!F:F,$J10))) | F10: =IF($J10=0,"",IF(INDEX('Прайс и заказ'!I:I,$J10)="","",INDEX('Прайс и заказ'!I:I,$J10))) | G10: =IF($J10=0,"",IF(INDEX('Прайс и заказ'!K:K,$J10)="","",INDEX('Прайс и заказ'!K:K,$J10))) | H10: =IF($J10=0,"",IF(INDEX('Прайс и заказ'!L:L,$J10)="","",INDEX('Прайс и заказ'!L:L,$J10))) | I10: =IF($J10=0,"",IF(INDEX('Прайс и заказ'!M:M,$J10)="","",INDEX('Прайс и заказ'!M:M,$J10))) | J10: =IFERROR(MATCH(2,'Прайс и заказ'!$N$7:$N$54,0)+6,0) | L10: =IF($J10=0,"",IF(INDEX('Прайс и заказ'!Q:Q,$J10)="","",INDEX('Прайс и заказ'!Q:Q,$J10)))
A11: =IF($J11=0,"",IFERROR(_xlfn.IMAGE(INDEX('Прайс и заказ'!$O:$O,$J11)),"")) | B11: =IF($J11=0,"",IF(INDEX('Прайс и заказ'!B:B,$J11)="","",INDEX('Прайс и заказ'!B:B,$J11))) | C11: =IF($J11=0,"",IF(INDEX('Прайс и заказ'!C:C,$J11)="","",INDEX('Прайс и заказ'!C:C,$J11))) | D11: =IF($J11=0,"",IF(INDEX('Прайс и заказ'!D:D,$J11)="","",INDEX('Прайс и заказ'!D:D,$J11))) | E11: =IF($J11=0,"",IF(INDEX('Прайс и заказ'!F:F,$J11)="","",INDEX('Прайс и заказ'!F:F,$J11))) | F11: =IF($J11=0,"",IF(INDEX('Прайс и заказ'!I:I,$J11)="","",INDEX('Прайс и заказ'!I:I,$J11))) | G11: =IF($J11=0,"",IF(INDEX('Прайс и заказ'!K:K,$J11)="","",INDEX('Прайс и заказ'!K:K,$J11))) | H11: =IF($J11=0,"",IF(INDEX('Прайс и заказ'!L:L,$J11)="","",INDEX('Прайс и заказ'!L:L,$J11))) | I11: =IF($J11=0,"",IF(INDEX('Прайс и заказ'!M:M,$J11)="","",INDEX('Прайс и заказ'!M:M,$J11))) | J11: =IFERROR(MATCH(3,'Прайс и заказ'!$N$7:$N$54,0)+6,0) | L11: =IF($J11=0,"",IF(INDEX('Прайс и заказ'!Q:Q,$J11)="","",INDEX('Прайс и заказ'!Q:Q,$J11)))
A12: =IF($J12=0,"",IFERROR(_xlfn.IMAGE(INDEX('Прайс и заказ'!$O:$O,$J12)),"")) | B12: =IF($J12=0,"",IF(INDEX('Прайс и заказ'!B:B,$J12)="","",INDEX('Прайс и заказ'!B:B,$J12))) | C12: =IF($J12=0,"",IF(INDEX('Прайс и заказ'!C:C,$J12)="","",INDEX('Прайс и заказ'!C:C,$J12))) | D12: =IF($J12=0,"",IF(INDEX('Прайс и заказ'!D:D,$J12)="","",INDEX('Прайс и заказ'!D:D,$J12))) | E12: =IF($J12=0,"",IF(INDEX('Прайс и заказ'!F:F,$J12)="","",INDEX('Прайс и заказ'!F:F,$J12))) | F12: =IF($J12=0,"",IF(INDEX('Прайс и заказ'!I:I,$J12)="","",INDEX('Прайс и заказ'!I:I,$J12))) | G12: =IF($J12=0,"",IF(INDEX('Прайс и заказ'!K:K,$J12)="","",INDEX('Прайс и заказ'!K:K,$J12))) | H12: =IF($J12=0,"",IF(INDEX('Прайс и заказ'!L:L,$J12)="","",INDEX('Прайс и заказ'!L:L,$J12))) | I12: =IF($J12=0,"",IF(INDEX('Прайс и заказ'!M:M,$J12)="","",INDEX('Прайс и заказ'!M:M,$J12))) | J12: =IFERROR(MATCH(4,'Прайс и заказ'!$N$7:$N$54,0)+6,0) | L12: =IF($J12=0,"",IF(INDEX('Прайс и заказ'!Q:Q,$J12)="","",INDEX('Прайс и заказ'!Q:Q,$J12)))
A13: =IF($J13=0,"",IFERROR(_xlfn.IMAGE(INDEX('Прайс и заказ'!$O:$O,$J13)),"")) | B13: =IF($J13=0,"",IF(INDEX('Прайс и заказ'!B:B,$J13)="","",INDEX('Прайс и заказ'!B:B,$J13))) | C13: =IF($J13=0,"",IF(INDEX('Прайс и заказ'!C:C,$J13)="","",INDEX('Прайс и заказ'!C:C,$J13))) | D13: =IF($J13=0,"",IF(INDEX('Прайс и заказ'!D:D,$J13)="","",INDEX('Прайс и заказ'!D:D,$J13))) | E13: =IF($J13=0,"",IF(INDEX('Прайс и заказ'!F:F,$J13)="","",INDEX('Прайс и заказ'!F:F,$J13))) | F13: =IF($J13=0,"",IF(INDEX('Прайс и заказ'!I:I,$J13)="","",INDEX('Прайс и заказ'!I:I,$J13))) | G13: =IF($J13=0,"",IF(INDEX('Прайс и заказ'!K:K,$J13)="","",INDEX('Прайс и заказ'!K:K,$J13))) | H13: =IF($J13=0,"",IF(INDEX('Прайс и заказ'!L:L,$J13)="","",INDEX('Прайс и заказ'!L:L,$J13))) | I13: =IF($J13=0,"",IF(INDEX('Прайс и заказ'!M:M,$J13)="","",INDEX('Прайс и заказ'!M:M,$J13))) | J13: =IFERROR(MATCH(5,'Прайс и заказ'!$N$7:$N$54,0)+6,0) | L13: =IF($J13=0,"",IF(INDEX('Прайс и заказ'!Q:Q,$J13)="","",INDEX('Прайс и заказ'!Q:Q,$J13)))
A14: =IF($J14=0,"",IFERROR(_xlfn.IMAGE(INDEX('Прайс и заказ'!$O:$O,$J14)),"")) | B14: =IF($J14=0,"",IF(INDEX('Прайс и заказ'!B:B,$J14)="","",INDEX('Прайс и заказ'!B:B,$J14))) | C14: =IF($J14=0,"",IF(INDEX('Прайс и заказ'!C:C,$J14)="","",INDEX('Прайс и заказ'!C:C,$J14))) | D14: =IF($J14=0,"",IF(INDEX('Прайс и заказ'!D:D,$J14)="","",INDEX('Прайс и заказ'!D:D,$J14))) | E14: =IF($J14=0,"",IF(INDEX('Прайс и заказ'!F:F,$J14)="","",INDEX('Прайс и заказ'!F:F,$J14))) | F14: =IF($J14=0,"",IF(INDEX('Прайс и заказ'!I:I,$J14)="","",INDEX('Прайс и заказ'!I:I,$J14))) | G14: =IF($J14=0,"",IF(INDEX('Прайс и заказ'!K:K,$J14)="","",INDEX('Прайс и заказ'!K:K,$J14))) | H14: =IF($J14=0,"",IF(INDEX('Прайс и заказ'!L:L,$J14)="","",INDEX('Прайс и заказ'!L:L,$J14))) | I14: =IF($J14=0,"",IF(INDEX('Прайс и заказ'!M:M,$J14)="","",INDEX('Прайс и заказ'!M:M,$J14))) | J14: =IFERROR(MATCH(6,'Прайс и заказ'!$N$7:$N$54,0)+6,0) | L14: =IF($J14=0,"",IF(INDEX('Прайс и заказ'!Q:Q,$J14)="","",INDEX('Прайс и заказ'!Q:Q,$J14)))
A15: =IF($J15=0,"",IFERROR(_xlfn.IMAGE(INDEX('Прайс и заказ'!$O:$O,$J15)),"")) | B15: =IF($J15=0,"",IF(INDEX('Прайс и заказ'!B:B,$J15)="","",INDEX('Прайс и заказ'!B:B,$J15))) | C15: =IF($J15=0,"",IF(INDEX('Прайс и заказ'!C:C,$J15)="","",INDEX('Прайс и заказ'!C:C,$J15))) | D15: =IF($J15=0,"",IF(INDEX('Прайс и заказ'!D:D,$J15)="","",INDEX('Прайс и заказ'!D:D,$J15))) | E15: =IF($J15=0,"",IF(INDEX('Прайс и заказ'!F:F,$J15)="","",INDEX('Прайс и заказ'!F:F,$J15))) | F15: =IF($J15=0,"",IF(INDEX('Прайс и заказ'!I:I,$J15)="","",INDEX('Прайс и заказ'!I:I,$J15))) | G15: =IF($J15=0,"",IF(INDEX('Прайс и заказ'!K:K,$J15)="","",INDEX('Прайс и заказ'!K:K,$J15))) | H15: =IF($J15=0,"",IF(INDEX('Прайс и заказ'!L:L,$J15)="","",INDEX('Прайс и заказ'!L:L,$J15))) | I15: =IF($J15=0,"",IF(INDEX('Прайс и заказ'!M:M,$J15)="","",INDEX('Прайс и заказ'!M:M,$J15))) | J15: =IFERROR(MATCH(7,'Прайс и заказ'!$N$7:$N$54,0)+6,0) | L15: =IF($J15=0,"",IF(INDEX('Прайс и заказ'!Q:Q,$J15)="","",INDEX('Прайс и заказ'!Q:Q,$J15)))
A16: =IF($J16=0,"",IFERROR(_xlfn.IMAGE(INDEX('Прайс и заказ'!$O:$O,$J16)),"")) | B16: =IF($J16=0,"",IF(INDEX('Прайс и заказ'!B:B,$J16)="","",INDEX('Прайс и заказ'!B:B,$J16))) | C16: =IF($J16=0,"",IF(INDEX('Прайс и заказ'!C:C,$J16)="","",INDEX('Прайс и заказ'!C:C,$J16))) | D16: =IF($J16=0,"",IF(INDEX('Прайс и заказ'!D:D,$J16)="","",INDEX('Прайс и заказ'!D:D,$J16))) | E16: =IF($J16=0,"",IF(INDEX('Прайс и заказ'!F:F,$J16)="","",INDEX('Прайс и заказ'!F:F,$J16))) | F16: =IF($J16=0,"",IF(INDEX('Прайс и заказ'!I:I,$J16)="","",INDEX('Прайс и заказ'!I:I,$J16))) | G16: =IF($J16=0,"",IF(INDEX('Прайс и заказ'!K:K,$J16)="","",INDEX('Прайс и заказ'!K:K,$J16))) | H16: =IF($J16=0,"",IF(INDEX('Прайс и заказ'!L:L,$J16)="","",INDEX('Прайс и заказ'!L:L,$J16))) | I16: =IF($J16=0,"",IF(INDEX('Прайс и заказ'!M:M,$J16)="","",INDEX('Прайс и заказ'!M:M,$J16))) | J16: =IFERROR(MATCH(8,'Прайс и заказ'!$N$7:$N$54,0)+6,0) | L16: =IF($J16=0,"",IF(INDEX('Прайс и заказ'!Q:Q,$J16)="","",INDEX('Прайс и заказ'!Q:Q,$J16)))
A17: =IF($J17=0,"",IFERROR(_xlfn.IMAGE(INDEX('Прайс и заказ'!$O:$O,$J17)),"")) | B17: =IF($J17=0,"",IF(INDEX('Прайс и заказ'!B:B,$J17)="","",INDEX('Прайс и заказ'!B:B,$J17))) | C17: =IF($J17=0,"",IF(INDEX('Прайс и заказ'!C:C,$J17)="","",INDEX('Прайс и заказ'!C:C,$J17))) | D17: =IF($J17=0,"",IF(INDEX('Прайс и заказ'!D:D,$J17)="","",INDEX('Прайс и заказ'!D:D,$J17))) | E17: =IF($J17=0,"",IF(INDEX('Прайс и заказ'!F:F,$J17)="","",INDEX('Прайс и заказ'!F:F,$J17))) | F17: =IF($J17=0,"",IF(INDEX('Прайс и заказ'!I:I,$J17)="","",INDEX('Прайс и заказ'!I:I,$J17))) | G17: =IF($J17=0,"",IF(INDEX('Прайс и заказ'!K:K,$J17)="","",INDEX('Прайс и заказ'!K:K,$J17))) | H17: =IF($J17=0,"",IF(INDEX('Прайс и заказ'!L:L,$J17)="","",INDEX('Прайс и заказ'!L:L,$J17))) | I17: =IF($J17=0,"",IF(INDEX('Прайс и заказ'!M:M,$J17)="","",INDEX('Прайс и заказ'!M:M,$J17))) | J17: =IFERROR(MATCH(9,'Прайс и заказ'!$N$7:$N$54,0)+6,0) | L17: =IF($J17=0,"",IF(INDEX('Прайс и заказ'!Q:Q,$J17)="","",INDEX('Прайс и заказ'!Q:Q,$J17)))
A18: =IF($J18=0,"",IFERROR(_xlfn.IMAGE(INDEX('Прайс и заказ'!$O:$O,$J18)),"")) | B18: =IF($J18=0,"",IF(INDEX('Прайс и заказ'!B:B,$J18)="","",INDEX('Прайс и заказ'!B:B,$J18))) | C18: =IF($J18=0,"",IF(INDEX('Прайс и заказ'!C:C,$J18)="","",INDEX('Прайс и заказ'!C:C,$J18))) | D18: =IF($J18=0,"",IF(INDEX('Прайс и заказ'!D:D,$J18)="","",INDEX('Прайс и заказ'!D:D,$J18))) | E18: =IF($J18=0,"",IF(INDEX('Прайс и заказ'!F:F,$J18)="","",INDEX('Прайс и заказ'!F:F,$J18))) | F18: =IF($J18=0,"",IF(INDEX('Прайс и заказ'!I:I,$J18)="","",INDEX('Прайс и заказ'!I:I,$J18))) | G18: =IF($J18=0,"",IF(INDEX('Прайс и заказ'!K:K,$J18)="","",INDEX('Прайс и заказ'!K:K,$J18))) | H18: =IF($J18=0,"",IF(INDEX('Прайс и заказ'!L:L,$J18)="","",INDEX('Прайс и заказ'!L:L,$J18))) | I18: =IF($J18=0,"",IF(INDEX('Прайс и заказ'!M:M,$J18)="","",INDEX('Прайс и заказ'!M:M,$J18))) | J18: =IFERROR(MATCH(10,'Прайс и заказ'!$N$7:$N$54,0)+6,0) | L18: =IF($J18=0,"",IF(INDEX('Прайс и заказ'!Q:Q,$J18)="","",INDEX('Прайс и заказ'!Q:Q,$J18)))
A19: =IF($J19=0,"",IFERROR(_xlfn.IMAGE(INDEX('Прайс и заказ'!$O:$O,$J19)),"")) | B19: =IF($J19=0,"",IF(INDEX('Прайс и заказ'!B:B,$J19)="","",INDEX('Прайс и заказ'!B:B,$J19))) | C19: =IF($J19=0,"",IF(INDEX('Прайс и заказ'!C:C,$J19)="","",INDEX('Прайс и заказ'!C:C,$J19))) | D19: =IF($J19=0,"",IF(INDEX('Прайс и заказ'!D:D,$J19)="","",INDEX('Прайс и заказ'!D:D,$J19))) | E19: =IF($J19=0,"",IF(INDEX('Прайс и заказ'!F:F,$J19)="","",INDEX('Прайс и заказ'!F:F,$J19))) | F19: =IF($J19=0,"",IF(INDEX('Прайс и заказ'!I:I,$J19)="","",INDEX('Прайс и заказ'!I:I,$J19))) | G19: =IF($J19=0,"",IF(INDEX('Прайс и заказ'!K:K,$J19)="","",INDEX('Прайс и заказ'!K:K,$J19))) | H19: =IF($J19=0,"",IF(INDEX('Прайс и заказ'!L:L,$J19)="","",INDEX('Прайс и заказ'!L:L,$J19))) | I19: =IF($J19=0,"",IF(INDEX('Прайс и заказ'!M:M,$J19)="","",INDEX('Прайс и заказ'!M:M,$J19))) | J19: =IFERROR(MATCH(11,'Прайс и заказ'!$N$7:$N$54,0)+6,0) | L19: =IF($J19=0,"",IF(INDEX('Прайс и заказ'!Q:Q,$J19)="","",INDEX('Прайс и заказ'!Q:Q,$J19)))
A20: =IF($J20=0,"",IFERROR(_xlfn.IMAGE(INDEX('Прайс и заказ'!$O:$O,$J20)),"")) | B20: =IF($J20=0,"",IF(INDEX('Прайс и заказ'!B:B,$J20)="","",INDEX('Прайс и заказ'!B:B,$J20))) | C20: =IF($J20=0,"",IF(INDEX('Прайс и заказ'!C:C,$J20)="","",INDEX('Прайс и заказ'!C:C,$J20))) | D20: =IF($J20=0,"",IF(INDEX('Прайс и заказ'!D:D,$J20)="","",INDEX('Прайс и заказ'!D:D,$J20))) | E20: =IF($J20=0,"",IF(INDEX('Прайс и заказ'!F:F,$J20)="","",INDEX('Прайс и заказ'!F:F,$J20))) | F20: =IF($J20=0,"",IF(INDEX('Прайс и заказ'!I:I,$J20)="","",INDEX('Прайс и заказ'!I:I,$J20))) | G20: =IF($J20=0,"",IF(INDEX('Прайс и заказ'!K:K,$J20)="","",INDEX('Прайс и заказ'!K:K,$J20))) | H20: =IF($J20=0,"",IF(INDEX('Прайс и заказ'!L:L,$J20)="","",INDEX('Прайс и заказ'!L:L,$J20))) | I20: =IF($J20=0,"",IF(INDEX('Прайс и заказ'!M:M,$J20)="","",INDEX('Прайс и заказ'!M:M,$J20))) | J20: =IFERROR(MATCH(12,'Прайс и заказ'!$N$7:$N$54,0)+6,0) | L20: =IF($J20=0,"",IF(INDEX('Прайс и заказ'!Q:Q,$J20)="","",INDEX('Прайс и заказ'!Q:Q,$J20)))
A21: =IF($J21=0,"",IFERROR(_xlfn.IMAGE(INDEX('Прайс и заказ'!$O:$O,$J21)),"")) | B21: =IF($J21=0,"",IF(INDEX('Прайс и заказ'!B:B,$J21)="","",INDEX('Прайс и заказ'!B:B,$J21))) | C21: =IF($J21=0,"",IF(INDEX('Прайс и заказ'!C:C,$J21)="","",INDEX('Прайс и заказ'!C:C,$J21))) | D21: =IF($J21=0,"",IF(INDEX('Прайс и заказ'!D:D,$J21)="","",INDEX('Прайс и заказ'!D:D,$J21))) | E21: =IF($J21=0,"",IF(INDEX('Прайс и заказ'!F:F,$J21)="","",INDEX('Прайс и заказ'!F:F,$J21))) | F21: =IF($J21=0,"",IF(INDEX('Прайс и заказ'!I:I,$J21)="","",INDEX('Прайс и заказ'!I:I,$J21))) | G21: =IF($J21=0,"",IF(INDEX('Прайс и заказ'!K:K,$J21)="","",INDEX('Прайс и заказ'!K:K,$J21))) | H21: =IF($J21=0,"",IF(INDEX('Прайс и заказ'!L:L,$J21)="","",INDEX('Прайс и заказ'!L:L,$J21))) | I21: =IF($J21=0,"",IF(INDEX('Прайс и заказ'!M:M,$J21)="","",INDEX('Прайс и заказ'!M:M,$J21))) | J21: =IFERROR(MATCH(13,'Прайс и заказ'!$N$7:$N$54,0)+6,0) | L21: =IF($J21=0,"",IF(INDEX('Прайс и заказ'!Q:Q,$J21)="","",INDEX('Прайс и заказ'!Q:Q,$J21)))
A22: =IF($J22=0,"",IFERROR(_xlfn.IMAGE(INDEX('Прайс и заказ'!$O:$O,$J22)),"")) | B22: =IF($J22=0,"",IF(INDEX('Прайс и заказ'!B:B,$J22)="","",INDEX('Прайс и заказ'!B:B,$J22))) | C22: =IF($J22=0,"",IF(INDEX('Прайс и заказ'!C:C,$J22)="","",INDEX('Прайс и заказ'!C:C,$J22))) | D22: =IF($J22=0,"",IF(INDEX('Прайс и заказ'!D:D,$J22)="","",INDEX('Прайс и заказ'!D:D,$J22))) | E22: =IF($J22=0,"",IF(INDEX('Прайс и заказ'!F:F,$J22)="","",INDEX('Прайс и заказ'!F:F,$J22))) | F22: =IF($J22=0,"",IF(INDEX('Прайс и заказ'!I:I,$J22)="","",INDEX('Прайс и заказ'!I:I,$J22))) | G22: =IF($J22=0,"",IF(INDEX('Прайс и заказ'!K:K,$J22)="","",INDEX('Прайс и заказ'!K:K,$J22))) | H22: =IF($J22=0,"",IF(INDEX('Прайс и заказ'!L:L,$J22)="","",INDEX('Прайс и заказ'!L:L,$J22))) | I22: =IF($J22=0,"",IF(INDEX('Прайс и заказ'!M:M,$J22)="","",INDEX('Прайс и заказ'!M:M,$J22))) | J22: =IFERROR(MATCH(14,'Прайс и заказ'!$N$7:$N$54,0)+6,0) | L22: =IF($J22=0,"",IF(INDEX('Прайс и заказ'!Q:Q,$J22)="","",INDEX('Прайс и заказ'!Q:Q,$J22)))
A23: =IF($J23=0,"",IFERROR(_xlfn.IMAGE(INDEX('Прайс и заказ'!$O:$O,$J23)),"")) | B23: =IF($J23=0,"",IF(INDEX('Прайс и заказ'!B:B,$J23)="","",INDEX('Прайс и заказ'!B:B,$J23))) | C23: =IF($J23=0,"",IF(INDEX('Прайс и заказ'!C:C,$J23)="","",INDEX('Прайс и заказ'!C:C,$J23))) | D23: =IF($J23=0,"",IF(INDEX('Прайс и заказ'!D:D,$J23)="","",INDEX('Прайс и заказ'!D:D,$J23))) | E23: =IF($J23=0,"",IF(INDEX('Прайс и заказ'!F:F,$J23)="","",INDEX('Прайс и заказ'!F:F,$J23))) | F23: =IF($J23=0,"",IF(INDEX('Прайс и заказ'!I:I,$J23)="","",INDEX('Прайс и заказ'!I:I,$J23))) | G23: =IF($J23=0,"",IF(INDEX('Прайс и заказ'!K:K,$J23)="","",INDEX('Прайс и заказ'!K:K,$J23))) | H23: =IF($J23=0,"",IF(INDEX('Прайс и заказ'!L:L,$J23)="","",INDEX('Прайс и заказ'!L:L,$J23))) | I23: =IF($J23=0,"",IF(INDEX('Прайс и заказ'!M:M,$J23)="","",INDEX('Прайс и заказ'!M:M,$J23))) | J23: =IFERROR(MATCH(15,'Прайс и заказ'!$N$7:$N$54,0)+6,0) | L23: =IF($J23=0,"",IF(INDEX('Прайс и заказ'!Q:Q,$J23)="","",INDEX('Прайс и заказ'!Q:Q,$J23)))
A24: =IF($J24=0,"",IFERROR(_xlfn.IMAGE(INDEX('Прайс и заказ'!$O:$O,$J24)),"")) | B24: =IF($J24=0,"",IF(INDEX('Прайс и заказ'!B:B,$J24)="","",INDEX('Прайс и заказ'!B:B,$J24))) | C24: =IF($J24=0,"",IF(INDEX('Прайс и заказ'!C:C,$J24)="","",INDEX('Прайс и заказ'!C:C,$J24))) | D24: =IF($J24=0,"",IF(INDEX('Прайс и заказ'!D:D,$J24)="","",INDEX('Прайс и заказ'!D:D,$J24))) | E24: =IF($J24=0,"",IF(INDEX('Прайс и заказ'!F:F,$J24)="","",INDEX('Прайс и заказ'!F:F,$J24))) | F24: =IF($J24=0,"",IF(INDEX('Прайс и заказ'!I:I,$J24)="","",INDEX('Прайс и заказ'!I:I,$J24))) | G24: =IF($J24=0,"",IF(INDEX('Прайс и заказ'!K:K,$J24)="","",INDEX('Прайс и заказ'!K:K,$J24))) | H24: =IF($J24=0,"",IF(INDEX('Прайс и заказ'!L:L,$J24)="","",INDEX('Прайс и заказ'!L:L,$J24))) | I24: =IF($J24=0,"",IF(INDEX('Прайс и заказ'!M:M,$J24)="","",INDEX('Прайс и заказ'!M:M,$J24))) | J24: =IFERROR(MATCH(16,'Прайс и заказ'!$N$7:$N$54,0)+6,0) | L24: =IF($J24=0,"",IF(INDEX('Прайс и заказ'!Q:Q,$J24)="","",INDEX('Прайс и заказ'!Q:Q,$J24)))
A25: =IF($J25=0,"",IFERROR(_xlfn.IMAGE(INDEX('Прайс и заказ'!$O:$O,$J25)),"")) | B25: =IF($J25=0,"",IF(INDEX('Прайс и заказ'!B:B,$J25)="","",INDEX('Прайс и заказ'!B:B,$J25))) | C25: =IF($J25=0,"",IF(INDEX('Прайс и заказ'!C:C,$J25)="","",INDEX('Прайс и заказ'!C:C,$J25))) | D25: =IF($J25=0,"",IF(INDEX('Прайс и заказ'!D:D,$J25)="","",INDEX('Прайс и заказ'!D:D,$J25))) | E25: =IF($J25=0,"",IF(INDEX('Прайс и заказ'!F:F,$J25)="","",INDEX('Прайс и заказ'!F:F,$J25))) | F25: =IF($J25=0,"",IF(INDEX('Прайс и заказ'!I:I,$J25)="","",INDEX('Прайс и заказ'!I:I,$J25))) | G25: =IF($J25=0,"",IF(INDEX('Прайс и заказ'!K:K,$J25)="","",INDEX('Прайс и заказ'!K:K,$J25))) | H25: =IF($J25=0,"",IF(INDEX('Прайс и заказ'!L:L,$J25)="","",INDEX('Прайс и заказ'!L:L,$J25))) | I25: =IF($J25=0,"",IF(INDEX('Прайс и заказ'!M:M,$J25)="","",INDEX('Прайс и заказ'!M:M,$J25))) | J25: =IFERROR(MATCH(17,'Прайс и заказ'!$N$7:$N$54,0)+6,0) | L25: =IF($J25=0,"",IF(INDEX('Прайс и заказ'!Q:Q,$J25)="","",INDEX('Прайс и заказ'!Q:Q,$J25)))
A26: =IF($J26=0,"",IFERROR(_xlfn.IMAGE(INDEX('Прайс и заказ'!$O:$O,$J26)),"")) | B26: =IF($J26=0,"",IF(INDEX('Прайс и заказ'!B:B,$J26)="","",INDEX('Прайс и заказ'!B:B,$J26))) | C26: =IF($J26=0,"",IF(INDEX('Прайс и заказ'!C:C,$J26)="","",INDEX('Прайс и заказ'!C:C,$J26))) | D26: =IF($J26=0,"",IF(INDEX('Прайс и заказ'!D:D,$J26)="","",INDEX('Прайс и заказ'!D:D,$J26))) | E26: =IF($J26=0,"",IF(INDEX('Прайс и заказ'!F:F,$J26)="","",INDEX('Прайс и заказ'!F:F,$J26))) | F26: =IF($J26=0,"",IF(INDEX('Прайс и заказ'!I:I,$J26)="","",INDEX('Прайс и заказ'!I:I,$J26))) | G26: =IF($J26=0,"",IF(INDEX('Прайс и заказ'!K:K,$J26)="","",INDEX('Прайс и заказ'!K:K,$J26))) | H26: =IF($J26=0,"",IF(INDEX('Прайс и заказ'!L:L,$J26)="","",INDEX('Прайс и заказ'!L:L,$J26))) | I26: =IF($J26=0,"",IF(INDEX('Прайс и заказ'!M:M,$J26)="","",INDEX('Прайс и заказ'!M:M,$J26))) | J26: =IFERROR(MATCH(18,'Прайс и заказ'!$N$7:$N$54,0)+6,0) | L26: =IF($J26=0,"",IF(INDEX('Прайс и заказ'!Q:Q,$J26)="","",INDEX('Прайс и заказ'!Q:Q,$J26)))
A27: =IF($J27=0,"",IFERROR(_xlfn.IMAGE(INDEX('Прайс и заказ'!$O:$O,$J27)),"")) | B27: =IF($J27=0,"",IF(INDEX('Прайс и заказ'!B:B,$J27)="","",INDEX('Прайс и заказ'!B:B,$J27))) | C27: =IF($J27=0,"",IF(INDEX('Прайс и заказ'!C:C,$J27)="","",INDEX('Прайс и заказ'!C:C,$J27))) | D27: =IF($J27=0,"",IF(INDEX('Прайс и заказ'!D:D,$J27)="","",INDEX('Прайс и заказ'!D:D,$J27))) | E27: =IF($J27=0,"",IF(INDEX('Прайс и заказ'!F:F,$J27)="","",INDEX('Прайс и заказ'!F:F,$J27))) | F27: =IF($J27=0,"",IF(INDEX('Прайс и заказ'!I:I,$J27)="","",INDEX('Прайс и заказ'!I:I,$J27))) | G27: =IF($J27=0,"",IF(INDEX('Прайс и заказ'!K:K,$J27)="","",INDEX('Прайс и заказ'!K:K,$J27))) | H27: =IF($J27=0,"",IF(INDEX('Прайс и заказ'!L:L,$J27)="","",INDEX('Прайс и заказ'!L:L,$J27))) | I27: =IF($J27=0,"",IF(INDEX('Прайс и заказ'!M:M,$J27)="","",INDEX('Прайс и заказ'!M:M,$J27))) | J27: =IFERROR(MATCH(19,'Прайс и заказ'!$N$7:$N$54,0)+6,0) | L27: =IF($J27=0,"",IF(INDEX('Прайс и заказ'!Q:Q,$J27)="","",INDEX('Прайс и заказ'!Q:Q,$J27)))
A28: =IF($J28=0,"",IFERROR(_xlfn.IMAGE(INDEX('Прайс и заказ'!$O:$O,$J28)),"")) | B28: =IF($J28=0,"",IF(INDEX('Прайс и заказ'!B:B,$J28)="","",INDEX('Прайс и заказ'!B:B,$J28))) | C28: =IF($J28=0,"",IF(INDEX('Прайс и заказ'!C:C,$J28)="","",INDEX('Прайс и заказ'!C:C,$J28))) | D28: =IF($J28=0,"",IF(INDEX('Прайс и заказ'!D:D,$J28)="","",INDEX('Прайс и заказ'!D:D,$J28))) | E28: =IF($J28=0,"",IF(INDEX('Прайс и заказ'!F:F,$J28)="","",INDEX('Прайс и заказ'!F:F,$J28))) | F28: =IF($J28=0,"",IF(INDEX('Прайс и заказ'!I:I,$J28)="","",INDEX('Прайс и заказ'!I:I,$J28))) | G28: =IF($J28=0,"",IF(INDEX('Прайс и заказ'!K:K,$J28)="","",INDEX('Прайс и заказ'!K:K,$J28))) | H28: =IF($J28=0,"",IF(INDEX('Прайс и заказ'!L:L,$J28)="","",INDEX('Прайс и заказ'!L:L,$J28))) | I28: =IF($J28=0,"",IF(INDEX('Прайс и заказ'!M:M,$J28)="","",INDEX('Прайс и заказ'!M:M,$J28))) | J28: =IFERROR(MATCH(20,'Прайс и заказ'!$N$7:$N$54,0)+6,0) | L28: =IF($J28=0,"",IF(INDEX('Прайс и заказ'!Q:Q,$J28)="","",INDEX('Прайс и заказ'!Q:Q,$J28)))
A29: =IF($J29=0,"",IFERROR(_xlfn.IMAGE(INDEX('Прайс и заказ'!$O:$O,$J29)),"")) | B29: =IF($J29=0,"",IF(INDEX('Прайс и заказ'!B:B,$J29)="","",INDEX('Прайс и заказ'!B:B,$J29))) | C29: =IF($J29=0,"",IF(INDEX('Прайс и заказ'!C:C,$J29)="","",INDEX('Прайс и заказ'!C:C,$J29))) | D29: =IF($J29=0,"",IF(INDEX('Прайс и заказ'!D:D,$J29)="","",INDEX('Прайс и заказ'!D:D,$J29))) | E29: =IF($J29=0,"",IF(INDEX('Прайс и заказ'!F:F,$J29)="","",INDEX('Прайс и заказ'!F:F,$J29))) | F29: =IF($J29=0,"",IF(INDEX('Прайс и заказ'!I:I,$J29)="","",INDEX('Прайс и заказ'!I:I,$J29))) | G29: =IF($J29=0,"",IF(INDEX('Прайс и заказ'!K:K,$J29)="","",INDEX('Прайс и заказ'!K:K,$J29))) | H29: =IF($J29=0,"",IF(INDEX('Прайс и заказ'!L:L,$J29)="","",INDEX('Прайс и заказ'!L:L,$J29))) | I29: =IF($J29=0,"",IF(INDEX('Прайс и заказ'!M:M,$J29)="","",INDEX('Прайс и заказ'!M:M,$J29))) | J29: =IFERROR(MATCH(21,'Прайс и заказ'!$N$7:$N$54,0)+6,0) | L29: =IF($J29=0,"",IF(INDEX('Прайс и заказ'!Q:Q,$J29)="","",INDEX('Прайс и заказ'!Q:Q,$J29)))
A30: =IF($J30=0,"",IFERROR(_xlfn.IMAGE(INDEX('Прайс и заказ'!$O:$O,$J30)),"")) | B30: =IF($J30=0,"",IF(INDEX('Прайс и заказ'!B:B,$J30)="","",INDEX('Прайс и заказ'!B:B,$J30))) | C30: =IF($J30=0,"",IF(INDEX('Прайс и заказ'!C:C,$J30)="","",INDEX('Прайс и заказ'!C:C,$J30))) | D30: =IF($J30=0,"",IF(INDEX('Прайс и заказ'!D:D,$J30)="","",INDEX('Прайс и заказ'!D:D,$J30))) | E30: =IF($J30=0,"",IF(INDEX('Прайс и заказ'!F:F,$J30)="","",INDEX('Прайс и заказ'!F:F,$J30))) | F30: =IF($J30=0,"",IF(INDEX('Прайс и заказ'!I:I,$J30)="","",INDEX('Прайс и заказ'!I:I,$J30))) | G30: =IF($J30=0,"",IF(INDEX('Прайс и заказ'!K:K,$J30)="","",INDEX('Прайс и заказ'!K:K,$J30))) | H30: =IF($J30=0,"",IF(INDEX('Прайс и заказ'!L:L,$J30)="","",INDEX('Прайс и заказ'!L:L,$J30))) | I30: =IF($J30=0,"",IF(INDEX('Прайс и заказ'!M:M,$J30)="","",INDEX('Прайс и заказ'!M:M,$J30))) | J30: =IFERROR(MATCH(22,'Прайс и заказ'!$N$7:$N$54,0)+6,0) | L30: =IF($J30=0,"",IF(INDEX('Прайс и заказ'!Q:Q,$J30)="","",INDEX('Прайс и заказ'!Q:Q,$J30)))
A31: =IF($J31=0,"",IFERROR(_xlfn.IMAGE(INDEX('Прайс и заказ'!$O:$O,$J31)),"")) | B31: =IF($J31=0,"",IF(INDEX('Прайс и заказ'!B:B,$J31)="","",INDEX('Прайс и заказ'!B:B,$J31))) | C31: =IF($J31=0,"",IF(INDEX('Прайс и заказ'!C:C,$J31)="","",INDEX('Прайс и заказ'!C:C,$J31))) | D31: =IF($J31=0,"",IF(INDEX('Прайс и заказ'!D:D,$J31)="","",INDEX('Прайс и заказ'!D:D,$J31))) | E31: =IF($J31=0,"",IF(INDEX('Прайс и заказ'!F:F,$J31)="","",INDEX('Прайс и заказ'!F:F,$J31))) | F31: =IF($J31=0,"",IF(INDEX('Прайс и заказ'!I:I,$J31)="","",INDEX('Прайс и заказ'!I:I,$J31))) | G31: =IF($J31=0,"",IF(INDEX('Прайс и заказ'!K:K,$J31)="","",INDEX('Прайс и заказ'!K:K,$J31))) | H31: =IF($J31=0,"",IF(INDEX('Прайс и заказ'!L:L,$J31)="","",INDEX('Прайс и заказ'!L:L,$J31))) | I31: =IF($J31=0,"",IF(INDEX('Прайс и заказ'!M:M,$J31)="","",INDEX('Прайс и заказ'!M:M,$J31))) | J31: =IFERROR(MATCH(23,'Прайс и заказ'!$N$7:$N$54,0)+6,0) | L31: =IF($J31=0,"",IF(INDEX('Прайс и заказ'!Q:Q,$J31)="","",INDEX('Прайс и заказ'!Q:Q,$J31)))
A32: =IF($J32=0,"",IFERROR(_xlfn.IMAGE(INDEX('Прайс и заказ'!$O:$O,$J32)),"")) | B32: =IF($J32=0,"",IF(INDEX('Прайс и заказ'!B:B,$J32)="","",INDEX('Прайс и заказ'!B:B,$J32))) | C32: =IF($J32=0,"",IF(INDEX('Прайс и заказ'!C:C,$J32)="","",INDEX('Прайс и заказ'!C:C,$J32))) | D32: =IF($J32=0,"",IF(INDEX('Прайс и заказ'!D:D,$J32)="","",INDEX('Прайс и заказ'!D:D,$J32))) | E32: =IF($J32=0,"",IF(INDEX('Прайс и заказ'!F:F,$J32)="","",INDEX('Прайс и заказ'!F:F,$J32))) | F32: =IF($J32=0,"",IF(INDEX('Прайс и заказ'!I:I,$J32)="","",INDEX('Прайс и заказ'!I:I,$J32))) | G32: =IF($J32=0,"",IF(INDEX('Прайс и заказ'!K:K,$J32)="","",INDEX('Прайс и заказ'!K:K,$J32))) | H32: =IF($J32=0,"",IF(INDEX('Прайс и заказ'!L:L,$J32)="","",INDEX('Прайс и заказ'!L:L,$J32))) | I32: =IF($J32=0,"",IF(INDEX('Прайс и заказ'!M:M,$J32)="","",INDEX('Прайс и заказ'!M:M,$J32))) | J32: =IFERROR(MATCH(24,'Прайс и заказ'!$N$7:$N$54,0)+6,0) | L32: =IF($J32=0,"",IF(INDEX('Прайс и заказ'!Q:Q,$J32)="","",INDEX('Прайс и заказ'!Q:Q,$J32)))
A33: =IF($J33=0,"",IFERROR(_xlfn.IMAGE(INDEX('Прайс и заказ'!$O:$O,$J33)),"")) | B33: =IF($J33=0,"",IF(INDEX('Прайс и заказ'!B:B,$J33)="","",INDEX('Прайс и заказ'!B:B,$J33))) | C33: =IF($J33=0,"",IF(INDEX('Прайс и заказ'!C:C,$J33)="","",INDEX('Прайс и заказ'!C:C,$J33))) | D33: =IF($J33=0,"",IF(INDEX('Прайс и заказ'!D:D,$J33)="","",INDEX('Прайс и заказ'!D:D,$J33))) | E33: =IF($J33=0,"",IF(INDEX('Прайс и заказ'!F:F,$J33)="","",INDEX('Прайс и заказ'!F:F,$J33))) | F33: =IF($J33=0,"",IF(INDEX('Прайс и заказ'!I:I,$J33)="","",INDEX('Прайс и заказ'!I:I,$J33))) | G33: =IF($J33=0,"",IF(INDEX('Прайс и заказ'!K:K,$J33)="","",INDEX('Прайс и заказ'!K:K,$J33))) | H33: =IF($J33=0,"",IF(INDEX('Прайс и заказ'!L:L,$J33)="","",INDEX('Прайс и заказ'!L:L,$J33))) | I33: =IF($J33=0,"",IF(INDEX('Прайс и заказ'!M:M,$J33)="","",INDEX('Прайс и заказ'!M:M,$J33))) | J33: =IFERROR(MATCH(25,'Прайс и заказ'!$N$7:$N$54,0)+6,0) | L33: =IF($J33=0,"",IF(INDEX('Прайс и заказ'!Q:Q,$J33)="","",INDEX('Прайс и заказ'!Q:Q,$J33)))
A34: =IF($J34=0,"",IFERROR(_xlfn.IMAGE(INDEX('Прайс и заказ'!$O:$O,$J34)),"")) | B34: =IF($J34=0,"",IF(INDEX('Прайс и заказ'!B:B,$J34)="","",INDEX('Прайс и заказ'!B:B,$J34))) | C34: =IF($J34=0,"",IF(INDEX('Прайс и заказ'!C:C,$J34)="","",INDEX('Прайс и заказ'!C:C,$J34))) | D34: =IF($J34=0,"",IF(INDEX('Прайс и заказ'!D:D,$J34)="","",INDEX('Прайс и заказ'!D:D,$J34))) | E34: =IF($J34=0,"",IF(INDEX('Прайс и заказ'!F:F,$J34)="","",INDEX('Прайс и заказ'!F:F,$J34))) | F34: =IF($J34=0,"",IF(INDEX('Прайс и заказ'!I:I,$J34)="","",INDEX('Прайс и заказ'!I:I,$J34))) | G34: =IF($J34=0,"",IF(INDEX('Прайс и заказ'!K:K,$J34)="","",INDEX('Прайс и заказ'!K:K,$J34))) | H34: =IF($J34=0,"",IF(INDEX('Прайс и заказ'!L:L,$J34)="","",INDEX('Прайс и заказ'!L:L,$J34))) | I34: =IF($J34=0,"",IF(INDEX('Прайс и заказ'!M:M,$J34)="","",INDEX('Прайс и заказ'!M:M,$J34))) | J34: =IFERROR(MATCH(26,'Прайс и заказ'!$N$7:$N$54,0)+6,0) | L34: =IF($J34=0,"",IF(INDEX('Прайс и заказ'!Q:Q,$J34)="","",INDEX('Прайс и заказ'!Q:Q,$J34)))
A35: =IF($J35=0,"",IFERROR(_xlfn.IMAGE(INDEX('Прайс и заказ'!$O:$O,$J35)),"")) | B35: =IF($J35=0,"",IF(INDEX('Прайс и заказ'!B:B,$J35)="","",INDEX('Прайс и заказ'!B:B,$J35))) | C35: =IF($J35=0,"",IF(INDEX('Прайс и заказ'!C:C,$J35)="","",INDEX('Прайс и заказ'!C:C,$J35))) | D35: =IF($J35=0,"",IF(INDEX('Прайс и заказ'!D:D,$J35)="","",INDEX('Прайс и заказ'!D:D,$J35))) | E35: =IF($J35=0,"",IF(INDEX('Прайс и заказ'!F:F,$J35)="","",INDEX('Прайс и заказ'!F:F,$J35))) | F35: =IF($J35=0,"",IF(INDEX('Прайс и заказ'!I:I,$J35)="","",INDEX('Прайс и заказ'!I:I,$J35))) | G35: =IF($J35=0,"",IF(INDEX('Прайс и заказ'!K:K,$J35)="","",INDEX('Прайс и заказ'!K:K,$J35))) | H35: =IF($J35=0,"",IF(INDEX('Прайс и заказ'!L:L,$J35)="","",INDEX('Прайс и заказ'!L:L,$J35))) | I35: =IF($J35=0,"",IF(INDEX('Прайс и заказ'!M:M,$J35)="","",INDEX('Прайс и заказ'!M:M,$J35))) | J35: =IFERROR(MATCH(27,'Прайс и заказ'!$N$7:$N$54,0)+6,0) | L35: =IF($J35=0,"",IF(INDEX('Прайс и заказ'!Q:Q,$J35)="","",INDEX('Прайс и заказ'!Q:Q,$J35)))
A36: =IF($J36=0,"",IFERROR(_xlfn.IMAGE(INDEX('Прайс и заказ'!$O:$O,$J36)),"")) | B36: =IF($J36=0,"",IF(INDEX('Прайс и заказ'!B:B,$J36)="","",INDEX('Прайс и заказ'!B:B,$J36))) | C36: =IF($J36=0,"",IF(INDEX('Прайс и заказ'!C:C,$J36)="","",INDEX('Прайс и заказ'!C:C,$J36))) | D36: =IF($J36=0,"",IF(INDEX('Прайс и заказ'!D:D,$J36)="","",INDEX('Прайс и заказ'!D:D,$J36))) | E36: =IF($J36=0,"",IF(INDEX('Прайс и заказ'!F:F,$J36)="","",INDEX('Прайс и заказ'!F:F,$J36))) | F36: =IF($J36=0,"",IF(INDEX('Прайс и заказ'!I:I,$J36)="","",INDEX('Прайс и заказ'!I:I,$J36))) | G36: =IF($J36=0,"",IF(INDEX('Прайс и заказ'!K:K,$J36)="","",INDEX('Прайс и заказ'!K:K,$J36))) | H36: =IF($J36=0,"",IF(INDEX('Прайс и заказ'!L:L,$J36)="","",INDEX('Прайс и заказ'!L:L,$J36))) | I36: =IF($J36=0,"",IF(INDEX('Прайс и заказ'!M:M,$J36)="","",INDEX('Прайс и заказ'!M:M,$J36))) | J36: =IFERROR(MATCH(28,'Прайс и заказ'!$N$7:$N$54,0)+6,0) | L36: =IF($J36=0,"",IF(INDEX('Прайс и заказ'!Q:Q,$J36)="","",INDEX('Прайс и заказ'!Q:Q,$J36)))
A37: =IF($J37=0,"",IFERROR(_xlfn.IMAGE(INDEX('Прайс и заказ'!$O:$O,$J37)),"")) | B37: =IF($J37=0,"",IF(INDEX('Прайс и заказ'!B:B,$J37)="","",INDEX('Прайс и заказ'!B:B,$J37))) | C37: =IF($J37=0,"",IF(INDEX('Прайс и заказ'!C:C,$J37)="","",INDEX('Прайс и заказ'!C:C,$J37))) | D37: =IF($J37=0,"",IF(INDEX('Прайс и заказ'!D:D,$J37)="","",INDEX('Прайс и заказ'!D:D,$J37))) | E37: =IF($J37=0,"",IF(INDEX('Прайс и заказ'!F:F,$J37)="","",INDEX('Прайс и заказ'!F:F,$J37))) | F37: =IF($J37=0,"",IF(INDEX('Прайс и заказ'!I:I,$J37)="","",INDEX('Прайс и заказ'!I:I,$J37))) | G37: =IF($J37=0,"",IF(INDEX('Прайс и заказ'!K:K,$J37)="","",INDEX('Прайс и заказ'!K:K,$J37))) | H37: =IF($J37=0,"",IF(INDEX('Прайс и заказ'!L:L,$J37)="","",INDEX('Прайс и заказ'!L:L,$J37))) | I37: =IF($J37=0,"",IF(INDEX('Прайс и заказ'!M:M,$J37)="","",INDEX('Прайс и заказ'!M:M,$J37))) | J37: =IFERROR(MATCH(29,'Прайс и заказ'!$N$7:$N$54,0)+6,0) | L37: =IF($J37=0,"",IF(INDEX('Прайс и заказ'!Q:Q,$J37)="","",INDEX('Прайс и заказ'!Q:Q,$J37)))
A38: =IF($J38=0,"",IFERROR(_xlfn.IMAGE(INDEX('Прайс и заказ'!$O:$O,$J38)),"")) | B38: =IF($J38=0,"",IF(INDEX('Прайс и заказ'!B:B,$J38)="","",INDEX('Прайс и заказ'!B:B,$J38))) | C38: =IF($J38=0,"",IF(INDEX('Прайс и заказ'!C:C,$J38)="","",INDEX('Прайс и заказ'!C:C,$J38))) | D38: =IF($J38=0,"",IF(INDEX('Прайс и заказ'!D:D,$J38)="","",INDEX('Прайс и заказ'!D:D,$J38))) | E38: =IF($J38=0,"",IF(INDEX('Прайс и заказ'!F:F,$J38)="","",INDEX('Прайс и заказ'!F:F,$J38))) | F38: =IF($J38=0,"",IF(INDEX('Прайс и заказ'!I:I,$J38)="","",INDEX('Прайс и заказ'!I:I,$J38))) | G38: =IF($J38=0,"",IF(INDEX('Прайс и заказ'!K:K,$J38)="","",INDEX('Прайс и заказ'!K:K,$J38))) | H38: =IF($J38=0,"",IF(INDEX('Прайс и заказ'!L:L,$J38)="","",INDEX('Прайс и заказ'!L:L,$J38))) | I38: =IF($J38=0,"",IF(INDEX('Прайс и заказ'!M:M,$J38)="","",INDEX('Прайс и заказ'!M:M,$J38))) | J38: =IFERROR(MATCH(30,'Прайс и заказ'!$N$7:$N$54,0)+6,0) | L38: =IF($J38=0,"",IF(INDEX('Прайс и заказ'!Q:Q,$J38)="","",INDEX('Прайс и заказ'!Q:Q,$J38)))
A39: =IF($J39=0,"",IFERROR(_xlfn.IMAGE(INDEX('Прайс и заказ'!$O:$O,$J39)),"")) | B39: =IF($J39=0,"",IF(INDEX('Прайс и заказ'!B:B,$J39)="","",INDEX('Прайс и заказ'!B:B,$J39))) | C39: =IF($J39=0,"",IF(INDEX('Прайс и заказ'!C:C,$J39)="","",INDEX('Прайс и заказ'!C:C,$J39))) | D39: =IF($J39=0,"",IF(INDEX('Прайс и заказ'!D:D,$J39)="","",INDEX('Прайс и заказ'!D:D,$J39))) | E39: =IF($J39=0,"",IF(INDEX('Прайс и заказ'!F:F,$J39)="","",INDEX('Прайс и заказ'!F:F,$J39))) | F39: =IF($J39=0,"",IF(INDEX('Прайс и заказ'!I:I,$J39)="","",INDEX('Прайс и заказ'!I:I,$J39))) | G39: =IF($J39=0,"",IF(INDEX('Прайс и заказ'!K:K,$J39)="","",INDEX('Прайс и заказ'!K:K,$J39))) | H39: =IF($J39=0,"",IF(INDEX('Прайс и заказ'!L:L,$J39)="","",INDEX('Прайс и заказ'!L:L,$J39))) | I39: =IF($J39=0,"",IF(INDEX('Прайс и заказ'!M:M,$J39)="","",INDEX('Прайс и заказ'!M:M,$J39))) | J39: =IFERROR(MATCH(31,'Прайс и заказ'!$N$7:$N$54,0)+6,0) | L39: =IF($J39=0,"",IF(INDEX('Прайс и заказ'!Q:Q,$J39)="","",INDEX('Прайс и заказ'!Q:Q,$J39)))
A40: =IF($J40=0,"",IFERROR(_xlfn.IMAGE(INDEX('Прайс и заказ'!$O:$O,$J40)),"")) | B40: =IF($J40=0,"",IF(INDEX('Прайс и заказ'!B:B,$J40)="","",INDEX('Прайс и заказ'!B:B,$J40))) | C40: =IF($J40=0,"",IF(INDEX('Прайс и заказ'!C:C,$J40)="","",INDEX('Прайс и заказ'!C:C,$J40))) | D40: =IF($J40=0,"",IF(INDEX('Прайс и заказ'!D:D,$J40)="","",INDEX('Прайс и заказ'!D:D,$J40))) | E40: =IF($J40=0,"",IF(INDEX('Прайс и заказ'!F:F,$J40)="","",INDEX('Прайс и заказ'!F:F,$J40))) | F40: =IF($J40=0,"",IF(INDEX('Прайс и заказ'!I:I,$J40)="","",INDEX('Прайс и заказ'!I:I,$J40))) | G40: =IF($J40=0,"",IF(INDEX('Прайс и заказ'!K:K,$J40)="","",INDEX('Прайс и заказ'!K:K,$J40))) | H40: =IF($J40=0,"",IF(INDEX('Прайс и заказ'!L:L,$J40)="","",INDEX('Прайс и заказ'!L:L,$J40))) | I40: =IF($J40=0,"",IF(INDEX('Прайс и заказ'!M:M,$J40)="","",INDEX('Прайс и заказ'!M:M,$J40))) | J40: =IFERROR(MATCH(32,'Прайс и заказ'!$N$7:$N$54,0)+6,0) | L40: =IF($J40=0,"",IF(INDEX('Прайс и заказ'!Q:Q,$J40)="","",INDEX('Прайс и заказ'!Q:Q,$J40)))
A41: =IF($J41=0,"",IFERROR(_xlfn.IMAGE(INDEX('Прайс и заказ'!$O:$O,$J41)),"")) | B41: =IF($J41=0,"",IF(INDEX('Прайс и заказ'!B:B,$J41)="","",INDEX('Прайс и заказ'!B:B,$J41))) | C41: =IF($J41=0,"",IF(INDEX('Прайс и заказ'!C:C,$J41)="","",INDEX('Прайс и заказ'!C:C,$J41))) | D41: =IF($J41=0,"",IF(INDEX('Прайс и заказ'!D:D,$J41)="","",INDEX('Прайс и заказ'!D:D,$J41))) | E41: =IF($J41=0,"",IF(INDEX('Прайс и заказ'!F:F,$J41)="","",INDEX('Прайс и заказ'!F:F,$J41))) | F41: =IF($J41=0,"",IF(INDEX('Прайс и заказ'!I:I,$J41)="","",INDEX('Прайс и заказ'!I:I,$J41))) | G41: =IF($J41=0,"",IF(INDEX('Прайс и заказ'!K:K,$J41)="","",INDEX('Прайс и заказ'!K:K,$J41))) | H41: =IF($J41=0,"",IF(INDEX('Прайс и заказ'!L:L,$J41)="","",INDEX('Прайс и заказ'!L:L,$J41))) | I41: =IF($J41=0,"",IF(INDEX('Прайс и заказ'!M:M,$J41)="","",INDEX('Прайс и заказ'!M:M,$J41))) | J41: =IFERROR(MATCH(33,'Прайс и заказ'!$N$7:$N$54,0)+6,0) | L41: =IF($J41=0,"",IF(INDEX('Прайс и заказ'!Q:Q,$J41)="","",INDEX('Прайс и заказ'!Q:Q,$J41)))
...

Sheet _1С
A1: LP-ORDER-1
A2: Дата выгрузки: 2026-10-01 19:59
A3: Тип цены: опт
A4: Раздел: Кашпо, вазоны
A5: id_format | B5: GUID | GUID#GUID | C5: id_sep | D5: #
A6: Лист | B6: СтрокаЗаголовков | C6: КолИД1С | D6: КолКоличество | E6: КолЦена | F6: КолМножитель
A7: Прайс и заказ | B7: 6 | C7: Q | D7: K | E7: I | F7: R
A8: Ваш заказ | B8: 8 | C8: L | D8: G | E8: F
